BEGIN:VCALENDAR
VERSION:2.0
PRODID:-//Hervey Bay Women&#039;s Shed Inc. - ECPv6.15.20//NONSGML v1.0//EN
CALSCALE:GREGORIAN
METHOD:PUBLISH
X-WR-CALNAME:Hervey Bay Women&#039;s Shed Inc.
X-ORIGINAL-URL:https://www.herveybaywomensshed.com
X-WR-CALDESC:Events for Hervey Bay Women&#039;s Shed Inc.
REFRESH-INTERVAL;VALUE=DURATION:PT1H
X-Robots-Tag:noindex
X-PUBLISHED-TTL:PT1H
BEGIN:VTIMEZONE
TZID:Australia/Melbourne
BEGIN:STANDARD
TZOFFSETFROM:+1100
TZOFFSETTO:+1000
TZNAME:AEST
DTSTART:20230401T160000
END:STANDARD
BEGIN:DAYLIGHT
TZOFFSETFROM:+1000
TZOFFSETTO:+1100
TZNAME:AEDT
DTSTART:20230930T160000
END:DAYLIGHT
BEGIN:STANDARD
TZOFFSETFROM:+1100
TZOFFSETTO:+1000
TZNAME:AEST
DTSTART:20240406T160000
END:STANDARD
BEGIN:DAYLIGHT
TZOFFSETFROM:+1000
TZOFFSETTO:+1100
TZNAME:AEDT
DTSTART:20241005T160000
END:DAYLIGHT
BEGIN:STANDARD
TZOFFSETFROM:+1100
TZOFFSETTO:+1000
TZNAME:AEST
DTSTART:20250405T160000
END:STANDARD
BEGIN:DAYLIGHT
TZOFFSETFROM:+1000
TZOFFSETTO:+1100
TZNAME:AEDT
DTSTART:20251004T160000
END:DAYLIGHT
END:VTIMEZONE
BEGIN:VEVENT
DTSTART;TZID=Australia/Melbourne:20240407T110000
DTEND;TZID=Australia/Melbourne:20240407T130000
DTSTAMP:20260420T093106
CREATED:20240401T213854Z
LAST-MODIFIED:20240401T213854Z
UID:345-1712487600-1712494800@www.herveybaywomensshed.com
SUMMARY:Committee Meeting
DESCRIPTION:
URL:https://www.herveybaywomensshed.com/event/committee-meeting/
ATTACH;FMTTYPE=image/png:https://www.herveybaywomensshed.com/wp-content/uploads/2024/04/Instagram-Post.png
ORGANIZER;CN="Hervey Bay Women's Shed Inc.":MAILTO:info@hbws.org.au
END:VEVENT
END:VCALENDAR